BEGIN:VCALENDAR
PRODID:-//AT Content Types//AT Event//EN
VERSION:2.0
METHOD:PUBLISH
BEGIN:VEVENT
DTSTAMP:20260421T060637Z
CREATED:20180516T094114Z
UID:ATEvent-0e6e33269fd44251b3c15ec7a4358dc6
LAST-MODIFIED:20180516T095008Z
SUMMARY:NeuroChat Timișoara
DTSTART:20180521T170000Z
DTEND:20180521T184000Z
DESCRIPTION:Seminar de comunicare cu specialiștii SM
CATEGORIES:wordmsday2018, ultimele evenimente
CONTACT:Florin Stoica\, 0744354771\, office@fft.ro
CLASS:PUBLIC
END:VEVENT
END:VCALENDAR
